BEGIN:VCALENDAR
VERSION:2.0
PRODID:-//WP EVENT Manager Ical//NONSGML Events //EN
CALSCALE:GREGORIAN

BEGIN:VEVENT

DTSTART:20260519T160000PMZ
DTEND:20260519T170000PMZ
LOCATION:Online
SUMMARY:Organization Design ‘Coffee to Cocktails Club’ – May
DESCRIPTION:Tuesday, May 19th | 11AM – 12PM (EDT)(third Tuesdays)Join Julian Chender, ODF Advisory Board LiaisonLet’s talk all things Organization Design! ODF will host a monthly virtual coffee (or cocktail depending on where you are in the globe) club for people interested in or working in the field.We meet monthly for two to three rounds of participant-led breakouts to chat about topics of special interest to practitioners.Would you want to join? What are you fascinated by? Let us know! Topic: TBDRegistration available once the topic for the month is announcedThe ODF Coffee to Cocktails Club is a place to connect, share, and learn. We build community around a shared passion for Organization Design. We encourage people at all levels of experience and a vast array of interests to attend.


END:VEVENT
END:VCALENDAR
    