BEGIN:VCALENDAR
VERSION:2.0
PRODID:-//WP EVENT Manager Ical//NONSGML Events //EN
CALSCALE:GREGORIAN

BEGIN:VEVENT

DTSTART:20260422T173000PMZ
DTEND:20260422T183000PMZ
LOCATION:Online
SUMMARY:ODF & EODF April 2026 Global Org Design Trends
DESCRIPTION:JOIN THE CONVERSATION . . .GLOBAL ORGANIZATION DESIGN TRENDS Wednesday, April 22| 12:30 – 1:30 PM (EDT)April articles (distributed by European ODF on April 10th):How GenAI Robots are Reshaping Services by Jochen Wirtz, Harvard Business ReviewAligning Atrategy and Culture: The Magic is in the Middle by Charles Galunic, INSEAD KnowledgeFrom Hierarchy to Intelligence by Jack Dorsey and Roelof Botha, BlockGetting GenAI to Live up to the Hype by Tomoko Yokoi, IMDWhen Not to Use AI by Benjamin Laker, MIT Sloan Management Review (Sign up for free to access)&nbsp;Sign up for the Zoom LinkAs a collaboration between ODF & European ODF we invite you to be part of our monthly conversations (virtually on Zoom) on hot topics in Organization Design. A Curatorial Board, composed of five OD experts, academics, and practitioners, selects the most interesting new articles, blog ­posts, books, and case studies to share with our fellow organization design professionals each month in a newsletter distributed by EODF. ODF hosts these monthly 1­-hour discussions for both ODF and EODF members to talk about the themes we see emerging from the articles in each newsletter and insights into their content.  If you are not already a member of European Organization Design Forum, or have access as a benefit of having attended our 2025 Annual Conference, you can receive the monthly newsletter and access EODF’s Knowledge Base for €60/year!  Join EODF&nbsp;


END:VEVENT
END:VCALENDAR
    