BEGIN:VCALENDAR
VERSION:2.0
PRODID:-//WP EVENT Manager Ical//NONSGML Events //EN
CALSCALE:GREGORIAN

BEGIN:VEVENT

DTSTART:20260513T202858PMZ
DTEND:20260514T202858PMZ
LOCATION:389 5th Ave 9th floor, New York, NY
SUMMARY:Partner Event – Social Impact Organization Design Course (NYC)
DESCRIPTION:Social ImpactOrganization Design CourseMay 13 & 14, 2026in-person in NYC&nbsp;We are pleased to share a learning opportunity being offered by ODF Advisory Board Liaison and active community member, Julian Chender with 11A CollaborativeSocial Impact Organization Design is a unique practice of operationalizing strategy. It involves the alignment of impact goals to organization structure, processes, governance, metrics, and talent.​In this hands-on, two-day, in-person course, we&#8217;ll cover the basic frameworks and new methodologies for Social Impact Organization Design, practice on our own or organizations (or our client systems), and apply our learnings to real issues in the Social Impact space now.​Target Audience: Social Impact leaders and consultants to Social Impact organizations!Why Now: Social Impact organizations are going through rapid changes, driven a lot by external factors. Aligning the internal to the external is key.What We Will Cover:&#8211; Operationalizing strategy&#8211; Designing for organizational capabilities&#8211; Managing organizational tensions&#8211; Why vertical structure is leverage for your mission&#8211; How to integrate across silos&#8211; The tricks of scaling (up or down)&#8211; How to design for collaboration, including strategic partnerships.Price and Location:$820 for consultants and $570 for Nonprofits. Let me know if price is a challenge&#8230; And lunch is included! We will be at the Idealist.org offices in Midtown Manhattan, May 13-14.For full details, visit https://luma.com/mhsomx8f


END:VEVENT
END:VCALENDAR
    